BEGIN:VCALENDAR
VERSION:2.0
PRODID:-//Ima Hogg Ceramic Circle - ECPv6.15.17.1//NONSGML v1.0//EN
CALSCALE:GREGORIAN
METHOD:PUBLISH
X-ORIGINAL-URL:https://imahoggceramiccircle.org
X-WR-CALDESC:Events for Ima Hogg Ceramic Circle
REFRESH-INTERVAL;VALUE=DURATION:PT1H
X-Robots-Tag:noindex
X-PUBLISHED-TTL:PT1H
BEGIN:VTIMEZONE
TZID:America/Chicago
BEGIN:DAYLIGHT
TZOFFSETFROM:-0600
TZOFFSETTO:-0500
TZNAME:CDT
DTSTART:20250309T080000
END:DAYLIGHT
BEGIN:STANDARD
TZOFFSETFROM:-0500
TZOFFSETTO:-0600
TZNAME:CST
DTSTART:20251102T070000
END:STANDARD
BEGIN:DAYLIGHT
TZOFFSETFROM:-0600
TZOFFSETTO:-0500
TZNAME:CDT
DTSTART:20260308T080000
END:DAYLIGHT
BEGIN:STANDARD
TZOFFSETFROM:-0500
TZOFFSETTO:-0600
TZNAME:CST
DTSTART:20261101T070000
END:STANDARD
BEGIN:DAYLIGHT
TZOFFSETFROM:-0600
TZOFFSETTO:-0500
TZNAME:CDT
DTSTART:20270314T080000
END:DAYLIGHT
BEGIN:STANDARD
TZOFFSETFROM:-0500
TZOFFSETTO:-0600
TZNAME:CST
DTSTART:20271107T070000
END:STANDARD
END:VTIMEZONE
BEGIN:VEVENT
DTSTART;TZID=America/Chicago:20260323T100000
DTEND;TZID=America/Chicago:20260323T143000
DTSTAMP:20260419T184135
CREATED:20250814T165735Z
LAST-MODIFIED:20260303T194337Z
UID:10000104-1774260000-1774276200@imahoggceramiccircle.org
SUMMARY:Field Trip to View Private Collection
DESCRIPTION:Monday\, March 23\, 2026 \nMembers will have the opportunity to view a collection of Pueblo Indian pottery and Southwestern art. Pueblo pottery holds a unique place in the study of ceramics\, representing one of the most enduring and sophisticated ceramic traditions in the world. Celebrated for its technical mastery\, cultural continuity\, and artistic expression\, Pueblo pottery offers rich insight into form\, surface design\, and the relationship between function\, symbolism\, and community. \n    \n 
URL:https://imahoggceramiccircle.org/program/march-2026-field-trip/
LOCATION:TX
ATTACH;FMTTYPE=image/jpeg:https://imahoggceramiccircle.org/wp-content/uploads/2025/08/IMG_5103-1.jpg
END:VEVENT
END:VCALENDAR