BEGIN:VCALENDAR
VERSION:2.0
PRODID:-//Ima Hogg Ceramic Circle - ECPv6.15.17.1//NONSGML v1.0//EN
CALSCALE:GREGORIAN
METHOD:PUBLISH
X-WR-CALNAME:Ima Hogg Ceramic Circle
X-ORIGINAL-URL:https://imahoggceramiccircle.org
X-WR-CALDESC:Events for Ima Hogg Ceramic Circle
REFRESH-INTERVAL;VALUE=DURATION:PT1H
X-Robots-Tag:noindex
X-PUBLISHED-TTL:PT1H
BEGIN:VTIMEZONE
TZID:America/Chicago
BEGIN:DAYLIGHT
TZOFFSETFROM:-0600
TZOFFSETTO:-0500
TZNAME:CDT
DTSTART:20250309T080000
END:DAYLIGHT
BEGIN:STANDARD
TZOFFSETFROM:-0500
TZOFFSETTO:-0600
TZNAME:CST
DTSTART:20251102T070000
END:STANDARD
BEGIN:DAYLIGHT
TZOFFSETFROM:-0600
TZOFFSETTO:-0500
TZNAME:CDT
DTSTART:20260308T080000
END:DAYLIGHT
BEGIN:STANDARD
TZOFFSETFROM:-0500
TZOFFSETTO:-0600
TZNAME:CST
DTSTART:20261101T070000
END:STANDARD
BEGIN:DAYLIGHT
TZOFFSETFROM:-0600
TZOFFSETTO:-0500
TZNAME:CDT
DTSTART:20270314T080000
END:DAYLIGHT
BEGIN:STANDARD
TZOFFSETFROM:-0500
TZOFFSETTO:-0600
TZNAME:CST
DTSTART:20271107T070000
END:STANDARD
END:VTIMEZONE
BEGIN:VEVENT
DTSTART;TZID=America/Chicago:20260427T130000
DTEND;TZID=America/Chicago:20260427T143000
DTSTAMP:20260418T200212
CREATED:20250814T170659Z
LAST-MODIFIED:20251002T001231Z
UID:10000053-1777294800-1777300200@imahoggceramiccircle.org
SUMMARY:Today in Clay:  Contemporary Ceramics at the Museum of Fine Arts Houston
DESCRIPTION:“Predictive Dream\,” Aoki Katsuyo (Japanese\, born 1972)\, Porcelain\, 2005\, Garth Clark and Mark Del Vecchio Collection\, Gift of Garth Clark and Mark Del Vecchio\, Museum of Fine Arts\, Houston\, 2010.1661.  \nElisabeth Essner\, Windgate Foundation Associate Curator of Craft\, The Museum of Fine Arts\, Houston \nIn this lecture\, hear from Elizabeth Essner\, Windgate Foundation Associate Curator of Craft at the Museum of Fine Arts\, Houston about the Museum’s renowned Garth Clark and Mark Del Vecchio collection of contemporary ceramics.  Comprising nearly 500 objects by an international slate of artists\, this talk will delve into the collection’s masterworks\, the history behind these visionary collectors\, and how these functional and sculptural works expand traditional ideas about ceramics. \nElizabeth Essner is the inaugural Windgate Foundation Associate Curator of Craft at the Museum of Fine Arts\, Houston\, where she oversees the Museum”s modern and contemporary craft collection.  Elizabeth’s current projects include Going Underground:  The Jewels of Bernhard Schobinger\, the first major US museum presentation of the avant-garde Swiss jewelry artist\, co-curated with Cindi Strauss (2026)\, and a major retrospective of the Japanese American fiber artist Kay Sekimachi (2028). \nRalph BacerraUntitled Jar2000Whiteware2007.760.A\,.B
URL:https://imahoggceramiccircle.org/program/april-2026-essner/
LOCATION:Lora Jean Kilroy Center\, MFAH\, 6003 Memorial Drive\, Houston\, TX\, 77007
ATTACH;FMTTYPE=image/jpeg:https://imahoggceramiccircle.org/wp-content/uploads/2020/10/2010.1661-1500.jpg
END:VEVENT
BEGIN:VEVENT
DTSTART;TZID=America/Chicago:20260511T110000
DTEND;TZID=America/Chicago:20260511T133000
DTSTAMP:20260418T200212
CREATED:20250814T171511Z
LAST-MODIFIED:20250814T171855Z
UID:10000054-1778497200-1778506200@imahoggceramiccircle.org
SUMMARY:"A Showcase of Selected Treasures Commemorating 50 Years of The Ima Hogg Ceramic Circle" Annual Luncheon at the Junior League of Houston
DESCRIPTION:Monday\, May 11\, 2026 \n  \n  \nAnnual Luncheon at the Junior League of Houston.  Speaker’s topic “A Showcase of Selected Treasures Commemorating 50 Years of the Ima Hogg Ceramic Circle.”
URL:https://imahoggceramiccircle.org/program/annual-luncheon-2026/
LOCATION:Junior League of Houston\, 1811 Briar Oaks Lane\, Houston\, TX\, 77027
ATTACH;FMTTYPE=image/jpeg:https://imahoggceramiccircle.org/wp-content/uploads/2020/11/cropped-IHCC-Logo-396.jpg
END:VEVENT
END:VCALENDAR