BEGIN:VCALENDAR
VERSION:2.0
PRODID:-//Ima Hogg Ceramic Circle - ECPv6.15.17.1//NONSGML v1.0//EN
CALSCALE:GREGORIAN
METHOD:PUBLISH
X-ORIGINAL-URL:https://imahoggceramiccircle.org
X-WR-CALDESC:Events for Ima Hogg Ceramic Circle
REFRESH-INTERVAL;VALUE=DURATION:PT1H
X-Robots-Tag:noindex
X-PUBLISHED-TTL:PT1H
BEGIN:VTIMEZONE
TZID:America/Chicago
BEGIN:DAYLIGHT
TZOFFSETFROM:-0600
TZOFFSETTO:-0500
TZNAME:CDT
DTSTART:20240310T080000
END:DAYLIGHT
BEGIN:STANDARD
TZOFFSETFROM:-0500
TZOFFSETTO:-0600
TZNAME:CST
DTSTART:20241103T070000
END:STANDARD
BEGIN:DAYLIGHT
TZOFFSETFROM:-0600
TZOFFSETTO:-0500
TZNAME:CDT
DTSTART:20250309T080000
END:DAYLIGHT
BEGIN:STANDARD
TZOFFSETFROM:-0500
TZOFFSETTO:-0600
TZNAME:CST
DTSTART:20251102T070000
END:STANDARD
BEGIN:DAYLIGHT
TZOFFSETFROM:-0600
TZOFFSETTO:-0500
TZNAME:CDT
DTSTART:20260308T080000
END:DAYLIGHT
BEGIN:STANDARD
TZOFFSETFROM:-0500
TZOFFSETTO:-0600
TZNAME:CST
DTSTART:20261101T070000
END:STANDARD
END:VTIMEZONE
BEGIN:VEVENT
DTSTART;TZID=America/Chicago:20251110T130000
DTEND;TZID=America/Chicago:20251110T143000
DTSTAMP:20260419T201715
CREATED:20250814T161756Z
LAST-MODIFIED:20251009T192701Z
UID:10000101-1762779600-1762785000@imahoggceramiccircle.org
SUMMARY:Crowning the North:  Silver and Ceramics in The KODE Bergen Collection\, Norway
DESCRIPTION:Bishop Bowl (Punch Bowl) Manufactured by Herreboe Faience Factory\, Norway\, active 1759-1772\,  Decorator Heinrich Christian Friedrich Hosenfelder\, 1719-1805\,  c. 1760\,  Faience\, KODE Bergen Art Museums\, Bergen\, Norway   \nMonday\, November 10th\, 2025 \nMisty Flores\, Assistant Curator\, Rienzi\, Museum of Fine Arts\, Houston \nMisty Flores is the Assistant Curator at Rienzi\, the Museum of Fine Arts\, Houston’s house museum for European decorative arts.  A native of Houston\, Texas\, she earned her B.A. in Art History and History from the University of Houston and her M.A. in Decorative Arts and Historic Interiors from the University of Buckingham\, in partnership with The Wallace Collection in London.  She has curated numerous exhibitions\, including Hidden Hands:  Invisible Workers in Industrial England\, which examined the uncredited roles of women and children in the craft trades in England during the 18th and 19th centuries\, and Material of Empire:  Colonial Narratives\, which explored the stories objects reveal and conceal within the complex and intertwined legacies of empire.  Before joining the Museum of Fine Arts\, Houston\, she worked as a Documentation Assistant with English Heritage in London\, where she collaborated on projects with the Kenwood\, Chiswick\, and Apsley House Collections.  She serves as a chair member of the French Porcelain Society’s Emerging Scholars group and is co-chair of the newsletter committee of the American Ceramic Circle. \n \n“Plat des Menager\,” Manufactured by Herreboe Faience Factory\, Norway\, active 1759-1772\, c. 1770\, Faience\,  KODE Bergen Art Museums\, Bergen\, Norway. \n  \nThe Museum of Fine Arts\, Houston recently hosted the “Crowning the North; Silver Treasures from Bergen\, Norway” exhibition\, which ran from February 11 to May 5\, 2024.
URL:https://imahoggceramiccircle.org/program/november-2025-flores/
LOCATION:Lora Jean Kilroy Center\, MFAH\, 6003 Memorial Drive\, Houston\, TX\, 77007
ATTACH;FMTTYPE=image/jpeg:https://imahoggceramiccircle.org/wp-content/uploads/2025/08/VK.02626-Bishop-Bowl.jpg
END:VEVENT
END:VCALENDAR